BEGIN:VCALENDAR
VERSION:2.0
PRODID:-//Valentine Public Library - ECPv6.15.20//NONSGML v1.0//EN
CALSCALE:GREGORIAN
METHOD:PUBLISH
X-ORIGINAL-URL:https://valentinelibrary.org
X-WR-CALDESC:Events for Valentine Public Library
REFRESH-INTERVAL;VALUE=DURATION:PT1H
X-Robots-Tag:noindex
X-PUBLISHED-TTL:PT1H
BEGIN:VTIMEZONE
TZID:America/Chicago
BEGIN:DAYLIGHT
TZOFFSETFROM:-0600
TZOFFSETTO:-0500
TZNAME:CDT
DTSTART:20240310T080000
END:DAYLIGHT
BEGIN:STANDARD
TZOFFSETFROM:-0500
TZOFFSETTO:-0600
TZNAME:CST
DTSTART:20241103T070000
END:STANDARD
BEGIN:DAYLIGHT
TZOFFSETFROM:-0600
TZOFFSETTO:-0500
TZNAME:CDT
DTSTART:20250309T080000
END:DAYLIGHT
BEGIN:STANDARD
TZOFFSETFROM:-0500
TZOFFSETTO:-0600
TZNAME:CST
DTSTART:20251102T070000
END:STANDARD
BEGIN:DAYLIGHT
TZOFFSETFROM:-0600
TZOFFSETTO:-0500
TZNAME:CDT
DTSTART:20260308T080000
END:DAYLIGHT
BEGIN:STANDARD
TZOFFSETFROM:-0500
TZOFFSETTO:-0600
TZNAME:CST
DTSTART:20261101T070000
END:STANDARD
END:VTIMEZONE
BEGIN:VEVENT
DTSTART;TZID=America/Chicago:20250117T093000
DTEND;TZID=America/Chicago:20250117T100000
DTSTAMP:20260422T070742
CREATED:20241223T221553Z
LAST-MODIFIED:20241223T221553Z
UID:11688-1737106200-1737108000@valentinelibrary.org
SUMMARY:Story Time: Pre-K
DESCRIPTION:This Week’s Theme: Penguins! \nJoin us for some fun this January at the library! Our story time is designed for pre-K kids and takes place every Friday morning from 9:30 am to 10:00 am. Each week features a unique theme\, including a story and a craft activity that matches the theme. \nWhat to Expect: \n\nThemed Story Time: Listen to an engaging story each week.\nCraft Activity: Create a fun craft related to the story’s theme.\n\nBring your little ones for an enjoyable and creative start to their day! And don’t rush off after story time—stay for some “Fun with Friends” time in the kid’s corner. The kids can play while their caregivers connect and socialize. It’s a wonderful opportunity to make new friends and build community bonds. \nWho: all toddlers and preschool-aged children accompanied by an adult are welcome! \nDate and Time: Every Friday\, 9:30 am – 10:00 am\nWe look forward to seeing you and your little ones there!
URL:https://valentinelibrary.org/event/story-time-pre-k-55/
CATEGORIES:Children's Events
ATTACH;FMTTYPE=image/jpeg:https://valentinelibrary.org/wp-content/uploads/2024/12/Untitled-design-3.jpg
END:VEVENT
BEGIN:VEVENT
DTSTART;TZID=America/Chicago:20250123T154500
DTEND;TZID=America/Chicago:20250123T164500
DTSTAMP:20260422T070742
CREATED:20241223T212259Z
LAST-MODIFIED:20241223T212259Z
UID:11675-1737647100-1737650700@valentinelibrary.org
SUMMARY:Spark Exploration Program at the Library
DESCRIPTION:Valentine Public Library is partnering with UNL Extension Cherry County to bring you the Spark Exploration Program! \nDiscover what ignites your curiosity and joy! This interactive program\, led by Michelle Garwood\, helps youth uncover their “spark”—the interests and activities that bring them energy and fulfillment.  This program is perfect for curious minds in grades K-5th. \nNo RSVP is needed—just bring your enthusiasm and a sense of adventure! This program is a great way to explore what makes you unique. We can’t wait to see you there!
URL:https://valentinelibrary.org/event/spark-exploration-program-at-the-library-2/
CATEGORIES:Children's Events
ATTACH;FMTTYPE=image/jpeg:https://valentinelibrary.org/wp-content/uploads/2024/12/Untitled-design-9.jpg
END:VEVENT
END:VCALENDAR