BEGIN:VCALENDAR
VERSION:2.0
PRODID:-//Valentine Public Library - ECPv6.15.20//NONSGML v1.0//EN
CALSCALE:GREGORIAN
METHOD:PUBLISH
X-ORIGINAL-URL:https://valentinelibrary.org
X-WR-CALDESC:Events for Valentine Public Library
REFRESH-INTERVAL;VALUE=DURATION:PT1H
X-Robots-Tag:noindex
X-PUBLISHED-TTL:PT1H
BEGIN:VTIMEZONE
TZID:America/Chicago
BEGIN:DAYLIGHT
TZOFFSETFROM:-0600
TZOFFSETTO:-0500
TZNAME:CDT
DTSTART:20230312T080000
END:DAYLIGHT
BEGIN:STANDARD
TZOFFSETFROM:-0500
TZOFFSETTO:-0600
TZNAME:CST
DTSTART:20231105T070000
END:STANDARD
BEGIN:DAYLIGHT
TZOFFSETFROM:-0600
TZOFFSETTO:-0500
TZNAME:CDT
DTSTART:20240310T080000
END:DAYLIGHT
BEGIN:STANDARD
TZOFFSETFROM:-0500
TZOFFSETTO:-0600
TZNAME:CST
DTSTART:20241103T070000
END:STANDARD
BEGIN:DAYLIGHT
TZOFFSETFROM:-0600
TZOFFSETTO:-0500
TZNAME:CDT
DTSTART:20250309T080000
END:DAYLIGHT
BEGIN:STANDARD
TZOFFSETFROM:-0500
TZOFFSETTO:-0600
TZNAME:CST
DTSTART:20251102T070000
END:STANDARD
END:VTIMEZONE
BEGIN:VEVENT
DTSTART;TZID=America/Chicago:20241220T093000
DTEND;TZID=America/Chicago:20241220T093000
DTSTAMP:20260422T084927
CREATED:20241204T213858Z
LAST-MODIFIED:20241220T233743Z
UID:11625-1734687000-1734687000@valentinelibrary.org
SUMMARY:Story Time & Santa: Pre-K
DESCRIPTION: Santa Claus is Coming to Story Time! \n\nGet ready for some holiday magic at the Valentine Public Library when Santa stops by during the Story Times on Friday\, December 20th! Here’s the plan: Morning Session – 9:30 AM: This one’s just for our Pre-K kiddos and their adults. It’s the perfect time for little ones to enjoy a story\, a craft\, and some festive fun with Santa.  Afternoon Session – 1:30 PM: Calling all kids in grades K-3! Santa is saving the afternoon for YOU to hear a story\, make a craft\, and enjoy the holiday spirit. \n\nSanta will stay for photos\, so don’t forget to bring your camera to capture the holiday cheer! \nThis is a wonderful chance to celebrate the season and make some magical memories at the library. We can’t wait to welcome you and your family to this jolly holiday event! 
URL:https://valentinelibrary.org/event/story-time-santa-pre-k/
CATEGORIES:Children's Events
ATTACH;FMTTYPE=image/jpeg:https://valentinelibrary.org/wp-content/uploads/2024/12/STORY-TIME-Event-500-x-334-px-2.jpg
END:VEVENT
BEGIN:VEVENT
DTSTART;TZID=America/Chicago:20241223T080000
DTEND;TZID=America/Chicago:20241223T170000
DTSTAMP:20260422T084927
CREATED:20241223T221709Z
LAST-MODIFIED:20241223T221709Z
UID:11690-1734940800-1734973200@valentinelibrary.org
SUMMARY:Story Time: Pre-K
DESCRIPTION:This Week’s Theme: Snowman! \nJoin us for some fun this January at the library! Our story time is designed for pre-K kids and takes place every Friday morning from 9:30 am to 10:00 am. Each week features a unique theme\, including a story and a craft activity that matches the theme. \nWhat to Expect: \n\nThemed Story Time: Listen to an engaging story each week.\nCraft Activity: Create a fun craft related to the story’s theme.\n\nBring your little ones for an enjoyable and creative start to their day! And don’t rush off after story time—stay for some “Fun with Friends” time in the kid’s corner. The kids can play while their caregivers connect and socialize. It’s a wonderful opportunity to make new friends and build community bonds. \nWho: all toddlers and preschool-aged children accompanied by an adult are welcome! \nDate and Time: Every Friday\, 9:30 am – 10:00 am\nWe look forward to seeing you and your little ones there!
URL:https://valentinelibrary.org/event/story-time-pre-k-56/
CATEGORIES:Children's Events
ATTACH;FMTTYPE=image/jpeg:https://valentinelibrary.org/wp-content/uploads/2024/12/Untitled-design-4.jpg
END:VEVENT
END:VCALENDAR