BEGIN:VCALENDAR
VERSION:2.0
PRODID:-//Valentine Public Library - ECPv6.15.20//NONSGML v1.0//EN
CALSCALE:GREGORIAN
METHOD:PUBLISH
X-WR-CALNAME:Valentine Public Library
X-ORIGINAL-URL:https://valentinelibrary.org
X-WR-CALDESC:Events for Valentine Public Library
REFRESH-INTERVAL;VALUE=DURATION:PT1H
X-Robots-Tag:noindex
X-PUBLISHED-TTL:PT1H
BEGIN:VTIMEZONE
TZID:America/Chicago
BEGIN:DAYLIGHT
TZOFFSETFROM:-0600
TZOFFSETTO:-0500
TZNAME:CDT
DTSTART:20250309T080000
END:DAYLIGHT
BEGIN:STANDARD
TZOFFSETFROM:-0500
TZOFFSETTO:-0600
TZNAME:CST
DTSTART:20251102T070000
END:STANDARD
BEGIN:DAYLIGHT
TZOFFSETFROM:-0600
TZOFFSETTO:-0500
TZNAME:CDT
DTSTART:20260308T080000
END:DAYLIGHT
BEGIN:STANDARD
TZOFFSETFROM:-0500
TZOFFSETTO:-0600
TZNAME:CST
DTSTART:20261101T070000
END:STANDARD
BEGIN:DAYLIGHT
TZOFFSETFROM:-0600
TZOFFSETTO:-0500
TZNAME:CDT
DTSTART:20270314T080000
END:DAYLIGHT
BEGIN:STANDARD
TZOFFSETFROM:-0500
TZOFFSETTO:-0600
TZNAME:CST
DTSTART:20271107T070000
END:STANDARD
END:VTIMEZONE
BEGIN:VEVENT
DTSTART;TZID=America/Chicago:20260423T154500
DTEND;TZID=America/Chicago:20260423T164500
DTSTAMP:20260422T141010
CREATED:20260317T222230Z
LAST-MODIFIED:20260317T222230Z
UID:12940-1776959100-1776962700@valentinelibrary.org
SUMMARY:Junior Explorers (Grades K-5): Cherry Blossom Painting
DESCRIPTION:Join us at the library every Thursday for an hour of creativity and exploration just for kids in grades K–5. Each week features a different activity\, with options ranging from crafts and games to simple science and STEM experiments. \nAll supplies are provided\, there is no cost to attend\, and no registration is required—just come ready to have fun and try something new.
URL:https://valentinelibrary.org/event/junior-explorers-grades-k-5-cherry-blossom-painting/
CATEGORIES:Children's Events
ATTACH;FMTTYPE=image/jpeg:https://valentinelibrary.org/wp-content/uploads/2026/03/Untitled-design-4.jpg
END:VEVENT
BEGIN:VEVENT
DTSTART;TZID=America/Chicago:20260428T154500
DTEND;TZID=America/Chicago:20260428T164500
DTSTAMP:20260422T141010
CREATED:20260317T221825Z
LAST-MODIFIED:20260317T223815Z
UID:12933-1777391100-1777394700@valentinelibrary.org
SUMMARY:Try It Tuesdays (Grades 3-8): Nature Sun Catcher Craft
DESCRIPTION:Try-It Tuesdays invites kids in grades 3–8 to stop by the library each Tuesday from 3:45–4:45 pm and dive into something new. Each week brings a different activity\, from creative crafts and games to STEM projects and experiments. There’s no cost to attend and all supplies are provided. \nCome solo or bring a friend—no registration needed\, just curiosity and a willingness to try it!
URL:https://valentinelibrary.org/event/try-it-tuesdays-grades-3-8-nature-sun-catcher-craft/
CATEGORIES:Children's Events
ATTACH;FMTTYPE=image/jpeg:https://valentinelibrary.org/wp-content/uploads/2026/03/Untitled-design-6.jpg
END:VEVENT
BEGIN:VEVENT
DTSTART;TZID=America/Chicago:20260501T154500
DTEND;TZID=America/Chicago:20260501T164500
DTSTAMP:20260422T141010
CREATED:20260413T163820Z
LAST-MODIFIED:20260413T163820Z
UID:12988-1777650300-1777653900@valentinelibrary.org
SUMMARY:Story Time (Pre-K): "Bee" Kind
DESCRIPTION:Join us for Story Time—designed especially for Pre-K kids and their grown-ups!Each Friday from 9:30 to 10:00 a.m.\, we explore a fun new theme through stories and hands-on crafts that spark creativity and learning. \nWhat to Expect: \n\nThemed Story Time: Listen to an engaging story each week.\nMusic & Motion: Join the music fun with rhythm sticks\, egg shakers\, and more—perfect for wiggling and giggling!\nCraft Activity: Create a fun craft related to the story’s theme.\n\nBring your little ones for an enjoyable and creative start to their day! And don’t rush off after story time—stay for some “Fun with Friends” time in the kid’s corner. The kids can play while their caregivers connect and socialize. It’s a wonderful opportunity to make new friends and build community bonds. \nWho: all toddlers and preschool-aged children accompanied by an adult are welcome! \nDate and Time: Every Friday\, 9:30 am – 10:00 am\nWe look forward to seeing you and your little ones here!
URL:https://valentinelibrary.org/event/story-time-pre-k-bee-kind/
CATEGORIES:Children's Events
ATTACH;FMTTYPE=image/jpeg:https://valentinelibrary.org/wp-content/uploads/2026/04/Untitled-design-22.jpg
END:VEVENT
BEGIN:VEVENT
DTSTART;TZID=America/Chicago:20260505T154500
DTEND;TZID=America/Chicago:20260505T164500
DTSTAMP:20260422T141010
CREATED:20260413T162322Z
LAST-MODIFIED:20260413T162322Z
UID:12963-1777995900-1777999500@valentinelibrary.org
SUMMARY:Try-It Tuesdays (Grades 3-8): Cinco De Mayo
DESCRIPTION:Try-It Tuesdays invites kids in grades 3–8 to stop by the library each Tuesday from 3:45–4:45 pm and dive into something new. Each week brings a different activity\, from creative crafts and games to STEM projects and experiments. There’s no cost to attend and all supplies are provided. \nCome solo or bring a friend—no registration needed\, just curiosity and a willingness to try it!
URL:https://valentinelibrary.org/event/try-it-tuesdays-grades-3-8-cinco-de-mayo/
CATEGORIES:Children's Events
ATTACH;FMTTYPE=image/jpeg:https://valentinelibrary.org/wp-content/uploads/2026/04/Untitled-design-17.jpg
END:VEVENT
BEGIN:VEVENT
DTSTART;TZID=America/Chicago:20260507T154500
DTEND;TZID=America/Chicago:20260507T164500
DTSTAMP:20260422T141010
CREATED:20260413T163005Z
LAST-MODIFIED:20260413T163005Z
UID:12981-1778168700-1778172300@valentinelibrary.org
SUMMARY:Junior Explorers (Grades K-5): Bug Bookmark
DESCRIPTION:Join us at the library every Thursday for an hour of creativity and exploration just for kids in grades K–5. Each week features a different activity\, with options ranging from crafts and games to simple science and STEM experiments. \nAll supplies are provided\, there is no cost to attend\, and no registration is required—just come ready to have fun and try something new.
URL:https://valentinelibrary.org/event/junior-explorers-grades-k-5-bug-bookmark/
CATEGORIES:Children's Events
ATTACH;FMTTYPE=image/jpeg:https://valentinelibrary.org/wp-content/uploads/2026/04/Untitled-design-18.jpg
END:VEVENT
BEGIN:VEVENT
DTSTART;TZID=America/Chicago:20260508T154500
DTEND;TZID=America/Chicago:20260508T164500
DTSTAMP:20260422T141010
CREATED:20260413T164003Z
LAST-MODIFIED:20260413T164003Z
UID:12992-1778255100-1778258700@valentinelibrary.org
SUMMARY:Story Time (Pre-K): Spring
DESCRIPTION:Join us for Story Time—designed especially for Pre-K kids and their grown-ups!Each Friday from 9:30 to 10:00 a.m.\, we explore a fun new theme through stories and hands-on crafts that spark creativity and learning. \nWhat to Expect: \n\nThemed Story Time: Listen to an engaging story each week.\nMusic & Motion: Join the music fun with rhythm sticks\, egg shakers\, and more—perfect for wiggling and giggling!\nCraft Activity: Create a fun craft related to the story’s theme.\n\nBring your little ones for an enjoyable and creative start to their day! And don’t rush off after story time—stay for some “Fun with Friends” time in the kid’s corner. The kids can play while their caregivers connect and socialize. It’s a wonderful opportunity to make new friends and build community bonds. \nWho: all toddlers and preschool-aged children accompanied by an adult are welcome! \nDate and Time: Every Friday\, 9:30 am – 10:00 am\nWe look forward to seeing you and your little ones here!
URL:https://valentinelibrary.org/event/story-time-pre-k-spring/
CATEGORIES:Children's Events
ATTACH;FMTTYPE=image/jpeg:https://valentinelibrary.org/wp-content/uploads/2026/04/Untitled-design-23.jpg
END:VEVENT
BEGIN:VEVENT
DTSTART;TZID=America/Chicago:20260512T154500
DTEND;TZID=America/Chicago:20260512T164500
DTSTAMP:20260422T141010
CREATED:20260413T162506Z
LAST-MODIFIED:20260413T162506Z
UID:12975-1778600700-1778604300@valentinelibrary.org
SUMMARY:Try-It Tuesdays (Grades 3-8): Pony Bead Animals
DESCRIPTION:Try-It Tuesdays invites kids in grades 3–8 to stop by the library each Tuesday from 3:45–4:45 pm and dive into something new. Each week brings a different activity\, from creative crafts and games to STEM projects and experiments. There’s no cost to attend and all supplies are provided. \nCome solo or bring a friend—no registration needed\, just curiosity and a willingness to try it!
URL:https://valentinelibrary.org/event/try-it-tuesdays-grades-3-8-pony-bead-animals/
CATEGORIES:Children's Events
ATTACH;FMTTYPE=image/jpeg:https://valentinelibrary.org/wp-content/uploads/2026/04/Untitled-design-20.jpg
END:VEVENT
BEGIN:VEVENT
DTSTART;TZID=America/Chicago:20260521T154500
DTEND;TZID=America/Chicago:20260521T164500
DTSTAMP:20260422T141010
CREATED:20260413T163449Z
LAST-MODIFIED:20260413T163449Z
UID:12985-1779378300-1779381900@valentinelibrary.org
SUMMARY:Junior Explorers (Grades K-5): Bingo
DESCRIPTION:Join us at the library every Thursday for an hour of creativity and exploration just for kids in grades K–5. Each week features a different activity\, with options ranging from crafts and games to simple science and STEM experiments. \nAll supplies are provided\, there is no cost to attend\, and no registration is required—just come ready to have fun and try something new.
URL:https://valentinelibrary.org/event/junior-explorers-grades-k-5-bingo/
CATEGORIES:Children's Events
ATTACH;FMTTYPE=image/jpeg:https://valentinelibrary.org/wp-content/uploads/2026/04/Untitled-design-21.jpg
END:VEVENT
BEGIN:VEVENT
DTSTART;TZID=America/Chicago:20260526T154500
DTEND;TZID=America/Chicago:20260526T164500
DTSTAMP:20260422T141010
CREATED:20260413T162802Z
LAST-MODIFIED:20260413T162802Z
UID:12979-1779810300-1779813900@valentinelibrary.org
SUMMARY:Try-It Tuesdays (Grades 3-8): Futuremakers Flying Machines
DESCRIPTION:Try-It Tuesdays invites kids in grades 3–8 to stop by the library each Tuesday from 3:45–4:45 pm and dive into something new. Each week brings a different activity\, from creative crafts and games to STEM projects and experiments. There’s no cost to attend and all supplies are provided. \nCome solo or bring a friend—no registration needed\, just curiosity and a willingness to try it!
URL:https://valentinelibrary.org/event/try-it-tuesdays-grades-3-8-futuremakers-flying-machines/
CATEGORIES:Children's Events
ATTACH;FMTTYPE=image/jpeg:https://valentinelibrary.org/wp-content/uploads/2026/04/Untitled-design-15.jpg
END:VEVENT
BEGIN:VEVENT
DTSTART;TZID=America/Chicago:20260527T100000
DTEND;TZID=America/Chicago:20260527T110000
DTSTAMP:20260422T141010
CREATED:20260413T170131Z
LAST-MODIFIED:20260413T172112Z
UID:13004-1779876000-1779879600@valentinelibrary.org
SUMMARY:Unearth a Story (Grades K-5): Mesozoic Adventure
DESCRIPTION:This is a Six-Part Summer Discovery Series that invites kids to dig into adventure as we explore the amazing stories hidden beneath our feet! Each week brings a new discovery—from dinosaurs and fossils to the layers of the Earth and the mighty American bison. Along the way\, participants will enjoy special guests\, hands-on activities\, interactive learning\, and plenty of surprises designed to spark curiosity and imagination. \nThis program is open to children who completed grades K–5 during the 2025–2026 school year\, with a brand-new adventure waiting each week. Join us as we uncover the past\, explore the Earth\, and discover the stories waiting to be unearthed! \nToday’s theme: The Comedy Chronicles of a  Time-Traveling Paleontologist  \nJoin Professor Montague Tobias  Wobblebottom IV in a fantastical romp through time where laughter and learning go hand in hand. Children will giggle and laugh at the jokes\, magic and antics throughout this creative and original prehistoric adventure. This is a celebration of imagination\, exploration\, and the wonders of the natural world. Perfect to inspire young readers to grow a love for reading\, adventure\, and a deep appreciation for the natural world and the magic of our incredible Earth.
URL:https://valentinelibrary.org/event/unearth-a-story-grades-k-5-mesozoic-adventure/
CATEGORIES:Children's Events
ATTACH;FMTTYPE=image/jpeg:https://valentinelibrary.org/wp-content/uploads/2026/04/Untitled-design-27.jpg
END:VEVENT
BEGIN:VEVENT
DTSTART;TZID=America/Chicago:20260529T154500
DTEND;TZID=America/Chicago:20260529T164500
DTSTAMP:20260422T141010
CREATED:20260413T164517Z
LAST-MODIFIED:20260413T164517Z
UID:13002-1780069500-1780073100@valentinelibrary.org
SUMMARY:Story Time (Pre-K): Camping
DESCRIPTION:Join us for Story Time—designed especially for Pre-K kids and their grown-ups!Each Friday from 9:30 to 10:00 a.m.\, we explore a fun new theme through stories and hands-on crafts that spark creativity and learning. \nWhat to Expect: \n\nThemed Story Time: Listen to an engaging story each week.\nMusic & Motion: Join the music fun with rhythm sticks\, egg shakers\, and more—perfect for wiggling and giggling!\nCraft Activity: Create a fun craft related to the story’s theme.\n\nBring your little ones for an enjoyable and creative start to their day! And don’t rush off after story time—stay for some “Fun with Friends” time in the kid’s corner. The kids can play while their caregivers connect and socialize. It’s a wonderful opportunity to make new friends and build community bonds. \nWho: all toddlers and preschool-aged children accompanied by an adult are welcome! \nDate and Time: Every Friday\, 9:30 am – 10:00 am\nWe look forward to seeing you and your little ones here!
URL:https://valentinelibrary.org/event/story-time-pre-k-camping/
CATEGORIES:Children's Events
ATTACH;FMTTYPE=image/jpeg:https://valentinelibrary.org/wp-content/uploads/2026/04/Untitled-design-26.jpg
END:VEVENT
BEGIN:VEVENT
DTSTART;TZID=America/Chicago:20260603T100000
DTEND;TZID=America/Chicago:20260604T110000
DTSTAMP:20260422T141010
CREATED:20260413T171649Z
LAST-MODIFIED:20260413T172033Z
UID:13007-1780480800-1780570800@valentinelibrary.org
SUMMARY:Unearth a Story (Grades K-5): Ancient Niobrara
DESCRIPTION:This is a Six-Part Summer Discovery Series that invites kids to dig into adventure as we explore the amazing stories hidden beneath our feet! Each week brings a new discovery—from dinosaurs and fossils to the layers of the Earth and the mighty American bison. Along the way\, participants will enjoy special guests\, hands-on activities\, interactive learning\, and plenty of surprises designed to spark curiosity and imagination. \nThis program is open to children who completed grades K–5 during the 2025–2026 school year\, with a brand-new adventure waiting each week. Join us as we uncover the past\, explore the Earth\, and discover the stories waiting to be unearthed! \nToday’s theme: Dive into Nebraska’s prehistoric past with the Niobrara National Scenic River! Join a park ranger to explore the ancient Western Interior Seaway and discover incredible creatures—like Plesiosaurs\, Mosasaurs\, and even Megalodons—that once swam above what is now the Niobrara River Valley. Enjoy hands-on fun with fossil replicas and create your own take-home “fossil” while learning about the region’s rich fossil history.
URL:https://valentinelibrary.org/event/unearth-a-story-grades-k-5-ancient-niobrara/
CATEGORIES:Children's Events
ATTACH;FMTTYPE=image/jpeg:https://valentinelibrary.org/wp-content/uploads/2026/04/Untitled-design-28.jpg
END:VEVENT
BEGIN:VEVENT
DTSTART;TZID=America/Chicago:20260617T100000
DTEND;TZID=America/Chicago:20260617T110000
DTSTAMP:20260422T141010
CREATED:20260413T171952Z
LAST-MODIFIED:20260413T172158Z
UID:13010-1781690400-1781694000@valentinelibrary.org
SUMMARY:Unearth a Story (Grades K-5): Journey to the Center of the Earth
DESCRIPTION:This is a Six-Part Summer Discovery Series that invites kids to dig into adventure as we explore the amazing stories hidden beneath our feet! Each week brings a new discovery—from dinosaurs and fossils to the layers of the Earth and the mighty American bison. Along the way\, participants will enjoy special guests\, hands-on activities\, interactive learning\, and plenty of surprises designed to spark curiosity and imagination. \nThis program is open to children who completed grades K–5 during the 2025–2026 school year\, with a brand-new adventure waiting each week. Join us as we uncover the past\, explore the Earth\, and discover the stories waiting to be unearthed! \nToday’s theme: Explore the layers of the Earth! Learn how rock formations are created & dig into the fascinating science beneath our feet through a hands-on activity & games.
URL:https://valentinelibrary.org/event/unearth-a-story-grades-k-5-journey-to-the-center-of-the-earth/
CATEGORIES:Children's Events
ATTACH;FMTTYPE=image/jpeg:https://valentinelibrary.org/wp-content/uploads/2026/04/Untitled-design-29.jpg
END:VEVENT
BEGIN:VEVENT
DTSTART;TZID=America/Chicago:20260624T100000
DTEND;TZID=America/Chicago:20260624T110000
DTSTAMP:20260422T141010
CREATED:20260413T173620Z
LAST-MODIFIED:20260413T175320Z
UID:13014-1782295200-1782298800@valentinelibrary.org
SUMMARY:Unearth a Story (Grades K-5): Ashfall Fossil Beds Interactive Virtual Tour
DESCRIPTION:This is a Six-Part Summer Discovery Series that invites kids to dig into adventure as we explore the amazing stories hidden beneath our feet! Each week brings a new discovery—from dinosaurs and fossils to the layers of the Earth and the mighty American bison. Along the way\, participants will enjoy special guests\, hands-on activities\, interactive learning\, and plenty of surprises designed to spark curiosity and imagination. \nThis program is open to children who completed grades K–5 during the 2025–2026 school year\, with a brand-new adventure waiting each week. Join us as we uncover the past\, explore the Earth\, and discover the stories waiting to be unearthed! \nToday’s theme: Explore the Ashfall Fossil Beds! “Walk” through the Hubbard Rhino Barn\, explore the Visitor Center\, & learn more about the site through a behind-the-scenes look & interactive discussion.
URL:https://valentinelibrary.org/event/unearth-a-story-grades-k-5-ashfall-fossil-beds-interactive-virtual-tour/
CATEGORIES:Children's Events
ATTACH;FMTTYPE=image/jpeg:https://valentinelibrary.org/wp-content/uploads/2026/04/Untitled-design-32.jpg
END:VEVENT
BEGIN:VEVENT
DTSTART;TZID=America/Chicago:20260701T100000
DTEND;TZID=America/Chicago:20260701T110000
DTSTAMP:20260422T141010
CREATED:20260413T175151Z
LAST-MODIFIED:20260413T175238Z
UID:13018-1782900000-1782903600@valentinelibrary.org
SUMMARY:Unearth a Story (Grades K-5): The Great American Bison
DESCRIPTION:This is a Six-Part Summer Discovery Series that invites kids to dig into adventure as we explore the amazing stories hidden beneath our feet! Each week brings a new discovery—from dinosaurs and fossils to the layers of the Earth and the mighty American bison. Along the way\, participants will enjoy special guests\, hands-on activities\, interactive learning\, and plenty of surprises designed to spark curiosity and imagination. \nThis program is open to children who completed grades K–5 during the 2025–2026 school year\, with a brand-new adventure waiting each week. Join us as we uncover the past\, explore the Earth\, and discover the stories waiting to be unearthed! \nToday’s theme: Prairie Giants-The great American \n\n\n\nBuild your own stuffed bison buddy\, discover the history of Bison in our region\, & learn how these iconic animals shaped the Plains and our nation. Explore fascinating facts\, hands-on moments\, and even taste a bit of history as we celebrate 250 years of America through the story of the herd.
URL:https://valentinelibrary.org/event/unearth-a-story-grades-k-5-the-great-american-bison/
CATEGORIES:Children's Events
ATTACH;FMTTYPE=image/jpeg:https://valentinelibrary.org/wp-content/uploads/2026/04/Untitled-design-31.jpg
END:VEVENT
END:VCALENDAR